BEGIN:VCALENDAR
VERSION:2.0
PRODID:-//Aarhus i Forening - ECPv6.15.16//NONSGML v1.0//EN
CALSCALE:GREGORIAN
METHOD:PUBLISH
X-ORIGINAL-URL:https://aarhusiforening.dk
X-WR-CALDESC:Begivenheder for Aarhus i Forening
REFRESH-INTERVAL;VALUE=DURATION:PT1H
X-Robots-Tag:noindex
X-PUBLISHED-TTL:PT1H
BEGIN:VTIMEZONE
TZID:Europe/Copenhagen
BEGIN:DAYLIGHT
TZOFFSETFROM:+0100
TZOFFSETTO:+0200
TZNAME:CEST
DTSTART:20220327T010000
END:DAYLIGHT
BEGIN:STANDARD
TZOFFSETFROM:+0200
TZOFFSETTO:+0100
TZNAME:CET
DTSTART:20221030T010000
END:STANDARD
BEGIN:DAYLIGHT
TZOFFSETFROM:+0100
TZOFFSETTO:+0200
TZNAME:CEST
DTSTART:20230326T010000
END:DAYLIGHT
BEGIN:STANDARD
TZOFFSETFROM:+0200
TZOFFSETTO:+0100
TZNAME:CET
DTSTART:20231029T010000
END:STANDARD
BEGIN:DAYLIGHT
TZOFFSETFROM:+0100
TZOFFSETTO:+0200
TZNAME:CEST
DTSTART:20240331T010000
END:DAYLIGHT
BEGIN:STANDARD
TZOFFSETFROM:+0200
TZOFFSETTO:+0100
TZNAME:CET
DTSTART:20241027T010000
END:STANDARD
END:VTIMEZONE
BEGIN:VEVENT
DTSTART;TZID=Europe/Copenhagen:20230206T190000
DTEND;TZID=Europe/Copenhagen:20230206T200000
DTSTAMP:20260425T153327
CREATED:20221212T095653Z
LAST-MODIFIED:20221212T100139Z
UID:5255-1675710000-1675713600@aarhusiforening.dk
SUMMARY:Crowdfunding
DESCRIPTION:Aarhus Kommune har fået sin egen crowdfundingplatform: www.CrowdfundingAarhus.dk \nPå denne workshop bliver du introduceret til\, hvad crowdfunding er\, og hvilken type projekter det kan bruges til. \n\n\n\nMålgruppe\n\nAlle som ønsker at crowdfunde til projektidéer i Aarhus\, der understøtter medborgerskab\n\n\n\nIndhold\n\nAarhus Kommune har fået sin egen crowdfundingplatform: www.CrowdfundingAarhus.dk \nCrowdfunding Aarhus er en platform\, som kan benyttes af alle i Aarhus Kommune: Private borgere\, virksomheder\, foreninger og institutioner. Kort sagt\, alle som ønsker at crowdfunde spændende projektidéer i Aarhus\, der understøtter medborgerskab. \nPå workshoppen bliver du introduceret til\, hvad crowdfunding er\, og hvilken type projekter\, det kan bruges til. Du får også en gennemgang af\, hvad man skal være opmærksom på før\, under og efter sit crowdfunding-projekt\, ligesom der gives gode råd\, tips og tricks\, hvis man er kommende projektejer og gerne vil nå godt i mål med sit crowdfunding-projekt. \nDer afholdes online workshops på følgende tidspunkter: \n– Tirsdag d.10. januar 2023 kl.13-14 \n– Tirsdag d.10. januar 2023 kl.20-21 \n– Mandag d.6. februar 2023 kl. 19-20 \nDu kan læse mere om crowdfunding Aarhus på dette link: https://www.aarhus.dk/forening/crowdfunding/\n\n\n\nTidspunkt\n\nTirsdag d. 10. januar kl. 13-14 og 20-21 og mandag d. 6. februar kl. 19-20\n\n\n\nSted\n\nOnline\n\n\n\nTilmelding\n\nTilmelding sker ved at sende en mail til crowdfunding@aarhus.dk senest 3 dage før workshoppen.\n\n\n\nUnderviser\n\nMedarbejder fra Aarhus Kommune\n\n\n\nKontaktperson\n\nSara Springborg\, ÅUF\, sara@aauf.dk\, Tlf. 29878911
URL:https://aarhusiforening.dk/event/crowdfunding-2/
LOCATION:Online
CATEGORIES:Kurser 2023
ATTACH;FMTTYPE=image/jpeg:https://aarhusiforening.dk/wp-content/uploads/2022/12/maya-maceka-yW-Qgw_IJXg-unsplash-scaled.jpg
END:VEVENT
END:VCALENDAR