BEGIN:VCALENDAR
VERSION:2.0
PRODID:-//Aarhus i Forening - ECPv6.15.16//NONSGML v1.0//EN
CALSCALE:GREGORIAN
METHOD:PUBLISH
X-ORIGINAL-URL:https://aarhusiforening.dk
X-WR-CALDESC:Begivenheder for Aarhus i Forening
REFRESH-INTERVAL;VALUE=DURATION:PT1H
X-Robots-Tag:noindex
X-PUBLISHED-TTL:PT1H
BEGIN:VTIMEZONE
TZID:Europe/Copenhagen
BEGIN:DAYLIGHT
TZOFFSETFROM:+0100
TZOFFSETTO:+0200
TZNAME:CEST
DTSTART:20220327T010000
END:DAYLIGHT
BEGIN:STANDARD
TZOFFSETFROM:+0200
TZOFFSETTO:+0100
TZNAME:CET
DTSTART:20221030T010000
END:STANDARD
BEGIN:DAYLIGHT
TZOFFSETFROM:+0100
TZOFFSETTO:+0200
TZNAME:CEST
DTSTART:20230326T010000
END:DAYLIGHT
BEGIN:STANDARD
TZOFFSETFROM:+0200
TZOFFSETTO:+0100
TZNAME:CET
DTSTART:20231029T010000
END:STANDARD
BEGIN:DAYLIGHT
TZOFFSETFROM:+0100
TZOFFSETTO:+0200
TZNAME:CEST
DTSTART:20240331T010000
END:DAYLIGHT
BEGIN:STANDARD
TZOFFSETFROM:+0200
TZOFFSETTO:+0100
TZNAME:CET
DTSTART:20241027T010000
END:STANDARD
END:VTIMEZONE
BEGIN:VEVENT
DTSTART;TZID=Europe/Copenhagen:20230314T190000
DTEND;TZID=Europe/Copenhagen:20230314T210000
DTSTAMP:20260425T140011
CREATED:20230126T174651Z
LAST-MODIFIED:20230126T174651Z
UID:5298-1678820400-1678827600@aarhusiforening.dk
SUMMARY:Foreningens hjemmeside
DESCRIPTION:Du skal deltage i dette kursus\, fordi din forenings hjemmeside er afgørende for et godt førstehåndsindtryk. \nVi kommer omkring de vigtigste elementer ved hjemmesider og giver dig overskud til at forbedre jeres nuværende hjemmeside eller måske udarbejde en helt ny. \nEn hjemmeside er foreningens visitkort. Den viser\, hvem I er\, hvad I kan tilbyde\, og hvor man kan finde jer. Med en god hjemmeside kan I øge chancerne for\, at personer i lokalområdet kender jer og har lyst til at være en del af jeres forening. \nVi har fokus på: \n\n3 skridt til en velfungerende hjemmeside\nBliv inspireret af de gode eksempler\nGode råd til at skrive bedre webtekster\nFå en SEO-optimeret hjemmeside\n\nKurset fokuserer mest på indhold og struktur. Det vil sige\, at vi ikke går i dybden med tekniske detaljer vedrørende CMS systemer eller hosting. \nMålgruppe\nAlle i foreninger som arbejder med formidling via hjemmesider. \nVedr. kursuspris\nDeltagelse er gratis for foreninger i Aarhus Kommune\, da kurset laves i samarbejde med Idrætssamvirket i Aarhus\, Århus Ungdommens Fællesråd samt Aarhus Kommune\, som betaler for deltagere fra kommunen. \nDeltagere fra foreninger udenfor Aarhus Kommune betaler 300\,- kr. \nNo-show-gebyr\nHvis man er tilmeldt (som gratist) men udebliver fra kurset\, sendes en faktura på 300\,- kr. i ”No-show-gebyr” \nBemærk\nKurser som afholdes på DGI Østjyllands kontor finder sted på 2. og 3. sal – og der er desværre ikke elevator.
URL:https://aarhusiforening.dk/event/foreningens-hjemmeside/
LOCATION:DGI Østjylland\, Klamsagervej 19 B\, 1. tv.\, Åbyhøj\, 8230
CATEGORIES:Kurser 2023
ATTACH;FMTTYPE=image/jpeg:https://aarhusiforening.dk/wp-content/uploads/2023/01/computer.jpg
END:VEVENT
END:VCALENDAR