BEGIN:VCALENDAR
VERSION:2.0
PRODID:-//Aarhus i Forening - ECPv6.15.16//NONSGML v1.0//EN
CALSCALE:GREGORIAN
METHOD:PUBLISH
X-ORIGINAL-URL:https://aarhusiforening.dk
X-WR-CALDESC:Begivenheder for Aarhus i Forening
REFRESH-INTERVAL;VALUE=DURATION:PT1H
X-Robots-Tag:noindex
X-PUBLISHED-TTL:PT1H
BEGIN:VTIMEZONE
TZID:Europe/Copenhagen
BEGIN:DAYLIGHT
TZOFFSETFROM:+0100
TZOFFSETTO:+0200
TZNAME:CEST
DTSTART:20220327T010000
END:DAYLIGHT
BEGIN:STANDARD
TZOFFSETFROM:+0200
TZOFFSETTO:+0100
TZNAME:CET
DTSTART:20221030T010000
END:STANDARD
BEGIN:DAYLIGHT
TZOFFSETFROM:+0100
TZOFFSETTO:+0200
TZNAME:CEST
DTSTART:20230326T010000
END:DAYLIGHT
BEGIN:STANDARD
TZOFFSETFROM:+0200
TZOFFSETTO:+0100
TZNAME:CET
DTSTART:20231029T010000
END:STANDARD
BEGIN:DAYLIGHT
TZOFFSETFROM:+0100
TZOFFSETTO:+0200
TZNAME:CEST
DTSTART:20240331T010000
END:DAYLIGHT
BEGIN:STANDARD
TZOFFSETFROM:+0200
TZOFFSETTO:+0100
TZNAME:CET
DTSTART:20241027T010000
END:STANDARD
END:VTIMEZONE
BEGIN:VEVENT
DTSTART;TZID=Europe/Copenhagen:20231023T180000
DTEND;TZID=Europe/Copenhagen:20231023T200000
DTSTAMP:20260425T020603
CREATED:20230925T100500Z
LAST-MODIFIED:20230925T100500Z
UID:5321-1698084000-1698091200@aarhusiforening.dk
SUMMARY:Kommunikation i foreningsaktiviteter for børn og unge med særlige behov
DESCRIPTION:På denne ONLINE workshop om kommunikation lærer du om den nemme og gode kommunikation i forbindelse med træning af børn og unge med særlige behov og handicap\, i foreningslivet.\nWorkshoppen afholdes af Specialsport.dk\, og er for alle frivillige\, der laver aktiviteter for børn og unge med særlige ehov eller handicaps i en forening.\n\nDu lærer blandt andet om:\n– principper for det gode relationsarbejde\n– at forebygge konflikter\n– at håndtere konflikter\n– visuel kommunikation\n\nHoldet er for dig der er træner eller frivillig omkring børn og unge med særlige behov og handicap i foreningslivet eller som ønsker at blive det \n\nDet er gratis at deltage\, men tilmelding er nødvendig\, og foregår her på siden:\nhttps://billetto.dk/e/specialsport-webinar-i-kommunikation-billetter-810714 
URL:https://aarhusiforening.dk/event/kommunikation-i-foreningsaktiviteter-for-boern-og-unge-med-saerlige-behov/
LOCATION:Online
CATEGORIES:Kurser 2023
ATTACH;FMTTYPE=image/jpeg:https://aarhusiforening.dk/wp-content/uploads/2023/01/Boerns-bevaegelse-i-natur.jpg
ORGANIZER;CN="Specialsport.dk":MAILTO:louise@specialsport.dk
END:VEVENT
END:VCALENDAR