BEGIN:VCALENDAR
VERSION:2.0
PRODID:-//Aarhus i Forening - ECPv6.15.16//NONSGML v1.0//EN
CALSCALE:GREGORIAN
METHOD:PUBLISH
X-ORIGINAL-URL:https://aarhusiforening.dk
X-WR-CALDESC:Begivenheder for Aarhus i Forening
REFRESH-INTERVAL;VALUE=DURATION:PT1H
X-Robots-Tag:noindex
X-PUBLISHED-TTL:PT1H
BEGIN:VTIMEZONE
TZID:UTC
BEGIN:STANDARD
TZOFFSETFROM:+0000
TZOFFSETTO:+0000
TZNAME:UTC
DTSTART:20220101T000000
END:STANDARD
END:VTIMEZONE
BEGIN:VTIMEZONE
TZID:Europe/Copenhagen
BEGIN:DAYLIGHT
TZOFFSETFROM:+0100
TZOFFSETTO:+0200
TZNAME:CEST
DTSTART:20220327T010000
END:DAYLIGHT
BEGIN:STANDARD
TZOFFSETFROM:+0200
TZOFFSETTO:+0100
TZNAME:CET
DTSTART:20221030T010000
END:STANDARD
BEGIN:DAYLIGHT
TZOFFSETFROM:+0100
TZOFFSETTO:+0200
TZNAME:CEST
DTSTART:20230326T010000
END:DAYLIGHT
BEGIN:STANDARD
TZOFFSETFROM:+0200
TZOFFSETTO:+0100
TZNAME:CET
DTSTART:20231029T010000
END:STANDARD
BEGIN:DAYLIGHT
TZOFFSETFROM:+0100
TZOFFSETTO:+0200
TZNAME:CEST
DTSTART:20240331T010000
END:DAYLIGHT
BEGIN:STANDARD
TZOFFSETFROM:+0200
TZOFFSETTO:+0100
TZNAME:CET
DTSTART:20241027T010000
END:STANDARD
END:VTIMEZONE
BEGIN:VEVENT
DTSTART;TZID=UTC:20231115T170000
DTEND;TZID=UTC:20231115T190000
DTSTAMP:20260425T001446
CREATED:20220405T095559Z
LAST-MODIFIED:20221212T102237Z
UID:5190-1700067600-1700074800@aarhusiforening.dk
SUMMARY:Revisionskursus
DESCRIPTION:Sport og Fritid inviterer til revisionskursus for foreninger med undervisere fra BDO Revision.\n\nMålgruppen for kurset:\nPrimært foreningens revisorer og kasserere. Formænd og øvrige bestyrelsesmedlemmer i foreningerne er også velkomne.\n\nFormålet med kurset:\nAt klæde den foreningsvalgte revisor på\, til at kunne revidere tilskudsregnskabet og foreningens årsregnskab.\nIndhold:\nGrundlag for revisionen:\n– En kort gennemgang af folkeoplysningsloven og det kommunale regelsæt\n– Gennemgang af regnskabs- og revisionsbestemmelserne\n– Formalia-krav\, kassationsregler\, forretningsgange\, fuldmagter\, attestationer\nRevision af tilskudsregnskab og årsregnskab:\n– Revisionsmetoder\, dokumentation og rapportering\n\nDeltagelse er gratis\, men der opkræves no-show gebyr på kr. 300\,00.\n(Udeblivelse uden afbud = no-show).\nUnder mødet serveres kaffe og te samt en sandwich og en sodavand\n\nTilmelding:\nPå https://foreningsportalen.aarhuskommune.dk/ (kræver login) og der kan maks. deltage 2 personer fra hver forening.\n\nTilmeldingsguide:\nLog på – vælg Arrangement tilmelding.\nOBS: Vælg antal + Tilmeld OG Tilmeld mig. Du skal have en kvittering frem på skærmen med: Tilmelding modtaget.\nIngen kvittering = ingen tilmelding.\nBliver du efter din tilmelding forhindret\, skal du afmelde din deltagelse via mail til: biwe@aarhus.dk så hurtigt som muligt før revisionskurset af hensyn til at vi kan tilbyde pladsen til en fra ventelisten
URL:https://aarhusiforening.dk/event/revisionskursus-2/
LOCATION:N.J. Fjords Gade 2\, N.J. Fjords Gade 2\, Foredragslokalet\, 2. sal\, Aarhus C\, 8000\, Danmark
CATEGORIES:Kurser 2023
ATTACH;FMTTYPE=image/jpeg:https://aarhusiforening.dk/wp-content/uploads/2022/04/antoine-dautry-_zsL306fDck-unsplash-scaled-e1649114603827.jpg
END:VEVENT
BEGIN:VEVENT
DTSTART;TZID=Europe/Copenhagen:20231127T180000
DTEND;TZID=Europe/Copenhagen:20231127T200000
DTSTAMP:20260425T001446
CREATED:20230925T101054Z
LAST-MODIFIED:20230925T102923Z
UID:5326-1701108000-1701115200@aarhusiforening.dk
SUMMARY:Opstart af specialhold i din forening
DESCRIPTION:På ONLINE workshoppen Opstart af specialhold\, lærer du om hvordan du får organiseret og planlagt opstart af hold og aktiviteter for børn og unge med særlige behov og handicap.\n\nDu lærer blandt andet om:\n– praktiske forhold\, som frivillige/ledere/trænere\, målgruppen\, tidspunktet\, økonomi m.v.\n– Opbygningen af aktivitetsteamet omkring foreningsaktiviteten og deltagerne\n– rekruttering til holdet\n– al den hjælp I får til opstart\, når vi gør det sammen \n\nWorkshoppen er derfor for jer foreninger\, der ønsker at inkludere børn\, unge og voksne med særlige behov i jeres forening\, men som ingen (eller kun lidt) erfaring har med særlige behov og handicap.\n\nDet er gratis at deltage\, men tilmelding er nødvendig her på siden:\nhttps://billetto.dk/e/specialsport-webinar-i-opstart-af-hold-billetter-810696
URL:https://aarhusiforening.dk/event/opstart-af-specialhold-i-din-forening/
LOCATION:Online
CATEGORIES:Kurser 2023
ATTACH;FMTTYPE=image/jpeg:https://aarhusiforening.dk/wp-content/uploads/2021/11/19.jpg
ORGANIZER;CN="Specialsport.dk":MAILTO:louise@specialsport.dk
END:VEVENT
END:VCALENDAR